

BEGIN:VCALENDAR
TZID:Asia/Riyadh
BEGIN:VEVENT
CLASS:PUBLIC
CREATED:20260425T193142
DESCRIPTION:Kingdom of Saudi Arabia Oracle User Group is inviting you to a scheduled Zoom meeting to encourage Oracle Professionals to leverage their skills from the global experts.\n\n<strong>KSAOUG Connnect With Francisco</strong>\n\n<strong>Session Title:</strong> All about Global Data Services (GDS) - Geo-distributed solution for Oracle GoldenGate and Active Data Guard\n\n<strong>Abstract: </strong>Oracle GoldenGate and Oracle Active Data Guard allow for distribution of application workloads across replicated databases, but when applications are spread across geo- distributed databases, it is a challenge to efficiently use all the databases for best performance and availability. In this session, hear from an Oracle Product Development expert how the Global Data Services feature of Oracle Database provides region-based workload routing, load balancing, and service failover across replicas while enabling a seamless distributed private data cloud for your IT. Learn how you can load-balance read/write workloads in active/active Oracle GoldenGate and load-balance read-only workloads across Oracle Active Data Guard reader farms, among numerous other use cases.\n\n<strong>Speaker:</strong> Francisco Munoz Alvarez | Distinguished Product Manager, Oracle\n\n<strong>Hosted By</strong>: Nassyam Basha, Syed Zaheer\n\n<strong>Bio:</strong> Francisco Munoz Alvarez is an author and popular speaker at many Oracle conferences around the world. He was also the founder of LAOUC and actual President of CLOUG (Chilean Oracle Users Group), APACOUC (APAC Oracle Users Group Community, which is the umbrella organization for all of APAC), IAOUG (Independent Australian Oracle Users Group), SGOUG (Singapore Oracle Users Group), and NZOUG (New Zealand Oracle Users Group). He also worked in the first team to introduce Oracle to South America (Oracle 6 and the beta version of Oracle 7). He was also the first Master Oracle 7 Database Administrator in South America, as well as the first Latin American Oracle professional to be awarded a double ACE (ACE in 2008 and ACE Director in 2009) by Oracle HQ. In 2010, he had the privilege to receive a prestigious Oracle Magazine Editor’s Choice Award as the Oracle Evangelist of the Year–a huge recognition for his outstanding achievements in the Oracle world including the creation and organization of the already famous OTN Tours that are the biggest Oracle evangelist events in the world.\n\nCurrently, Francisco works for Oracle, as a Distinguished Product Manager for Maximum Availability Architecture (MAA) and Competitive Intelligence.
DTEND:20230204T113000Z
DTSTAMP:20260425T193142
DTSTART:20230204T103000
LAST-MODIFIED:20091109T101015
LOCATION:Zoom Meet, , , , 
SUMMARY;LANGUAGE=en-us:KSAOUG Connect With Francisco
BEGIN:VALARM
TRIGGER:-PT1440M
ACTION:DISPLAY
DESCRIPTION:Reminder
END:VALARM
END:VEVENT
END:VCALENDAR
