

BEGIN:VCALENDAR
TZID:Asia/Riyadh
BEGIN:VEVENT
CLASS:PUBLIC
CREATED:20260425T190905
DESCRIPTION:<strong>Session Title:</strong> Oracle Exadata X10M Under the Covers\n\n<strong>Abstract:</strong> When it comes to engineered systems, Oracle Exadata X10M is the best place to run Oracle Database workloads in customer data centers or Oracle cloud. Its features like RDMA Memory (XRMEM) with smart system software eliminates performance bottlenecks in crucial customer transaction processing and analytics workloads. In this session, audience will take a deep dive whats inside X10M machine and what are its features, the session is intended for DBAs, DMAs, System administrators, Architects, Developers. Take a turn in your career and learn Exadata Database Machine.\n\n<strong>Organizers: Nassyam Basha, Syed Zaheer</strong>\n\n<strong>Speaker:</strong> Karan Dodwal | OCM (Oracle Certified Master) and Oracle ACE Pro\n\n<strong>Speaker Bio: </strong>Karan Dodwal is a Database Consultant with specialization in Oracle High Availability, Cloud, and Exadata Environments, He is an OCM (Oracle Certified Master) and Oracle ACE Pro with several years of expertise in Oracle Database and Oracle Development. He works with Fidelity International as a Technical Consultant and he has given several services and trainings on Oracle Products in the Asia Pacific, Asia South & Greater China region. He is an OTN Author where he frequently publishes articles on OTN, OTN Portuguese, OTN Spanish, and several websites and his blog <a href="http://karandba.blogspot.in" target="_blank" rel="noopener">http://karandba.blogspot.in</a>, and OTN Forum also to help Oracle Users. He presents sessions on Oracle Technology at various events and has given several webinars as well. He has set up several Oracle High Availability Environments on all platforms for mission-critical Oracle Databases. He is reachable at <a href="mailto:karandodwal@gmail.com" target="_blank" rel="noopener">karandodwal@gmail.com</a>
DTEND:20240302T120000Z
DTSTAMP:20260425T190905
DTSTART:20240302T100000
LAST-MODIFIED:20091109T101015
LOCATION:Zoom Meet, , , , 
SUMMARY;LANGUAGE=en-us:KSAOUG Connect With Karan – Oracle Exadata X10M Under the Covers
BEGIN:VALARM
TRIGGER:-PT1440M
ACTION:DISPLAY
DESCRIPTION:Reminder
END:VALARM
END:VEVENT
END:VCALENDAR
