

BEGIN:VCALENDAR
TZID:Asia/Riyadh
BEGIN:VEVENT
CLASS:PUBLIC
CREATED:20260425T192549
DESCRIPTION:<strong>Session Title:</strong> Performing Disaster Recovery Orchestration at scale using OCI Full Stack Disaster Recovery\n\n<strong>Abstract:</strong> Disaster recovery (DR) operations are critical for businesses to ensure continuity in the event of a disaster. However, DR operations can be complex and time-consuming, leading to delays in recovery times and increased risk of human error. Oracle Cloud Infrastructure (OCI) Full Stack DR provides a comprehensive solution for businesses to manage DR operations, including automated recovery processes. By leveraging OCI Full Stack DR and automation techniques, businesses can simplify and streamline DR operations, reduce the risk of errors, and improve recovery times. Full Stack DR is a highly extensible and customizable solution that brings more benefits to customers.\n\n<p>This session will discuss OCI Full Stack DR, business benefits, and its components with the latest enhancements. We will also see a quick demo of switching over a sample app using Full Stack DR.</p>\n\n<strong>Organizers: Nassyam Basha, Syed Zaheer</strong>\n\n<strong>Speaker:</strong> Suraj Malli Ramesh | Oracle Product Manager\n\n<p><strong>Speaker Bio: </strong>Suraj Ramesh serves as the Principal Product Manager at Oracle. He is an integral part of the team focusing on Oracle Database High Availability (HA), Scalability, and Maximum Availability Architecture (MAA). His current responsibilities include overseeing the OCI Full Stack Disaster Recovery Cloud Service, general MAA initiatives for Oracle DB, and Online Reorganization and Redefinition.</p>\n\n<p>Prior to his current position at Oracle, Suraj served as a Solution Architect for Oracle Technology products and OCI. Before his tenure at Oracle, he worked in multiple roles as an Oracle DB Consultant and Solution Architect across leading IT companies, providing support to global customers. Additionally, Suraj has achieved various professional certifications in Oracle Database, and Oracle Cloud, as well as associate certifications in AWS and Azure. A regular speaker at Oracle Cloud World, All India Oracle Users Group (AIOUG) and other Oracle user groups.</p>
DTEND:20240309T120000Z
DTSTAMP:20260425T192549
DTSTART:20240309T100000
LAST-MODIFIED:20091109T101015
LOCATION:Zoom Meet, , , , 
SUMMARY;LANGUAGE=en-us:KSAOUG Connect With Suraj – OCI Full Stack Disaster Recovery
BEGIN:VALARM
TRIGGER:-PT1440M
ACTION:DISPLAY
DESCRIPTION:Reminder
END:VALARM
END:VEVENT
END:VCALENDAR
